BEGIN:VCALENDAR
VERSION:2.0
PRODID:-//Ninkkastudio - ECPv6.15.20//NONSGML v1.0//EN
CALSCALE:GREGORIAN
METHOD:PUBLISH
X-WR-CALNAME:Ninkkastudio
X-ORIGINAL-URL:https://ninkkastudio.com
X-WR-CALDESC:Events for Ninkkastudio
REFRESH-INTERVAL;VALUE=DURATION:PT1H
X-Robots-Tag:noindex
X-PUBLISHED-TTL:PT1H
BEGIN:VTIMEZONE
TZID:Europe/Paris
BEGIN:DAYLIGHT
TZOFFSETFROM:+0100
TZOFFSETTO:+0200
TZNAME:CEST
DTSTART:20240331T010000
END:DAYLIGHT
BEGIN:STANDARD
TZOFFSETFROM:+0200
TZOFFSETTO:+0100
TZNAME:CET
DTSTART:20241027T010000
END:STANDARD
BEGIN:DAYLIGHT
TZOFFSETFROM:+0100
TZOFFSETTO:+0200
TZNAME:CEST
DTSTART:20250330T010000
END:DAYLIGHT
BEGIN:STANDARD
TZOFFSETFROM:+0200
TZOFFSETTO:+0100
TZNAME:CET
DTSTART:20251026T010000
END:STANDARD
BEGIN:DAYLIGHT
TZOFFSETFROM:+0100
TZOFFSETTO:+0200
TZNAME:CEST
DTSTART:20260329T010000
END:DAYLIGHT
BEGIN:STANDARD
TZOFFSETFROM:+0200
TZOFFSETTO:+0100
TZNAME:CET
DTSTART:20261025T010000
END:STANDARD
END:VTIMEZONE
BEGIN:VEVENT
DTSTART;TZID=Europe/Paris:20251011T100000
DTEND;TZID=Europe/Paris:20251011T123000
DTSTAMP:20260424T063839
CREATED:20250930T073332Z
LAST-MODIFIED:20250930T073332Z
UID:16031-1760176800-1760185800@ninkkastudio.com
SUMMARY:Collage Lab
DESCRIPTION:Join us for an inspiring morning of creativity\, color\, and composition as we explore the art of collage-making together. \nDate: Saturday\, October 11th\nTime: 10.00 am to 12.30 pm\nLocation: De Kolibri Café in Steinsel (see on Google maps) \nWhether you’re a seasoned artist or have never picked up a pair of scissors\, this workshop is for everyone! We’ll provide all the materials you need\, including magazines\, decorative papers\, and glue. Just bring your imagination\, a pair of your favorite scissors\, and an open mind. \nDuring the workshop\, you’ll: \n\nLearn basic collage techniques and composition principles\nExperiment with different materials and textures\nCreate your own unique artwork to take home\nConnect with fellow creative spirits in a relaxed\, supportive environment\n\nWhat to bring: Just yourself and a pair of scissors! All materials will be provided\, but feel free to bring any personal photos\, papers\, or small objects you’d like to incorporate into your piece. \nCost: 35 euros per person \nRSVP to: ninkkastudio@gmail.com\nWe can take a maximum of 8 people\, so please reserve your spot early!
URL:https://ninkkastudio.com/event/collage-lab/
LOCATION:de Kolibri Café\, 2\, Montée Willy Goergen\, Steinsel\, 7322\, Luxembourg
CATEGORIES:Workshop
ATTACH;FMTTYPE=image/jpeg:https://ninkkastudio.com/wp-content/uploads/2025/09/Collage_at_kolibri3.jpg
END:VEVENT
BEGIN:VEVENT
DTSTART;TZID=Europe/Paris:20251019T090000
DTEND;TZID=Europe/Paris:20251019T120000
DTSTAMP:20260424T063839
CREATED:20250804T093849Z
LAST-MODIFIED:20250804T094234Z
UID:16017-1760864400-1760875200@ninkkastudio.com
SUMMARY:Gel printing basics - OCTOBRE
DESCRIPTION:Découvrez le style de monographie avec la technique simple d’impression gel. Après une brève introduction à la technique\, à la théorie des couleurs et aux compositions\, on commence déjà par expérimenter et devenir créatif. La plaque de gelée est une plaque souple et flexible faite de gélatine\, qui est utilisée avec de la peinture acrylique. \nEntdecke die Art des Monoprints mit der einfachen Gel Printing Technik. Nach einer kurzen Einführung in die Technik\, Farbtheorie und Komposition geht es auch schon los mit dem Experimentieren und kreativ werden. Die Gelli Plate ist eine weiche\, flexible Platte aus Gelatine\, die mit Acrylfarbe verwendet wird. \nDiscover the monograph style with the simple gel printing technique. After a brief introduction to the technique\, colour theory and composition\, you can start experimenting and getting creative. The gel plate is a soft\, flexible plate made from gelatine\, which is used with acrylic paint. \n  \nLanguages: \nGerman\nEnglish\nFrench\nLuxembourgish \n 
URL:https://ninkkastudio.com/event/gel-printing-basics-octobre/
LOCATION:Kulturhaus Niederanven\, 145\, route de Trèves\, Niederanven\, Luxembourg\, 6940\, Luxembourg
CATEGORIES:Workshop
ATTACH;FMTTYPE=image/jpeg:https://ninkkastudio.com/wp-content/uploads/2024/05/Workshop_gelli_print_008.jpg
END:VEVENT
END:VCALENDAR