BEGIN:VCALENDAR
VERSION:2.0
PRODID:-//Ninkkastudio - ECPv6.15.20//NONSGML v1.0//EN
CALSCALE:GREGORIAN
METHOD:PUBLISH
X-ORIGINAL-URL:https://ninkkastudio.com
X-WR-CALDESC:Events for Ninkkastudio
REFRESH-INTERVAL;VALUE=DURATION:PT1H
X-Robots-Tag:noindex
X-PUBLISHED-TTL:PT1H
BEGIN:VTIMEZONE
TZID:Europe/Paris
BEGIN:DAYLIGHT
TZOFFSETFROM:+0100
TZOFFSETTO:+0200
TZNAME:CEST
DTSTART:20250330T010000
END:DAYLIGHT
BEGIN:STANDARD
TZOFFSETFROM:+0200
TZOFFSETTO:+0100
TZNAME:CET
DTSTART:20251026T010000
END:STANDARD
BEGIN:DAYLIGHT
TZOFFSETFROM:+0100
TZOFFSETTO:+0200
TZNAME:CEST
DTSTART:20260329T010000
END:DAYLIGHT
BEGIN:STANDARD
TZOFFSETFROM:+0200
TZOFFSETTO:+0100
TZNAME:CET
DTSTART:20261025T010000
END:STANDARD
BEGIN:DAYLIGHT
TZOFFSETFROM:+0100
TZOFFSETTO:+0200
TZNAME:CEST
DTSTART:20270328T010000
END:DAYLIGHT
BEGIN:STANDARD
TZOFFSETFROM:+0200
TZOFFSETTO:+0100
TZNAME:CET
DTSTART:20271031T010000
END:STANDARD
END:VTIMEZONE
BEGIN:VEVENT
DTSTART;TZID=Europe/Paris:20260203T080000
DTEND;TZID=Europe/Paris:20260227T170000
DTSTAMP:20260423T215231
CREATED:20260107T150533Z
LAST-MODIFIED:20260107T150533Z
UID:16059-1770105600-1772211600@ninkkastudio.com
SUMMARY:Expo - Collages & Assemblages
DESCRIPTION:Collages & Assemblages\nExposition de Nina Bezirgani & Estelle Lichtenberger-Froehling \n\n\nÀ partir du 03.02. — Jusqu’au 27.02.2026\n\n\n\n\nHeures d’ouverture\nLundi + vendredi : 8h00-14h00 \nMardi\, mercredi + jeudi : 8h00-16h00 \nSamedi : 14h00-17h00 – présence des artistes \n\n\nVernissage\nMardi\, 3.02.2026 : 18h30 \n\n\nExposition\nUne exposition collective des artistes luxembourgeois Nina Berzigani (collages) et Estelle Lichtenberger-Froehling (collages & assemblages) qui présentent leurs œuvres récentes. \n\n\nInfo\nNina Berzigani utilise des morceaux de papier déchirés pour créer des collages\, en les reconstituant et en les repeignant\, créant ainsi quelque chose de nouveau et d’entier. \nAprès avoir terminé ses études de graphisme\, Nina Bezirgani a travaillé dans différentes agences de publicité et est directrice artistique. Depuis 2019\, elle propose des ateliers créatifs pour (jeunes) adultes sous le nom de NinkkaStudio. Nina sur vous et votre travail : je me qualifierais moi-même d’artiste de mixed media. J’aime expérimenter avec différentes techniques\, sans but précis\, et voir ce que cela donne. Je voudrais faire découvrir cette création curieuse et non orientée vers des objectifs aux gens\, car nos vies sont déjà suffisamment orientées vers des objectifs et structurées 🙂 \nLe travail artistique d’Estelle Lichtenberger-Froehling s’inscrit dans l’univers de la collage et de l’assemblage\, où elle donne une nouvelle vie à des matériaux anciens : photos oubliées\, papiers usés\, lettres manuscrites\, textiles déchirés. Ces fragments du passé – souvent considérés comme sans valeur – sont pour elle des trésors silencieux. Elle les collecte avec soin\, guidée par une sensibilité pour l’éphémère\, l’usure et les histoires invisibles qu’ils portent en eux. Dans ses compositions\, Estelle assemble ces éléments de manière intuitive\, poétique\, parfois fragile. Chaque œuvre devient un espace de mémoire\, de rêverie\, une tentative de retenir ce qui disparaît. \nL’artiste autodidacte aime explorer les textures\, les couches\, les traces du temps – et créer des liens entre le passé et le présent à travers des gestes simples\, presque méditatifs. \n\n\nAccessibilité\nSi vous avez des besoins spécifiques ou des contraintes de mobilité\, veuillez nous contacter à l’adresse info@​khn.​lu ou par téléphone au 26 34 73 1. \n\n\nLiens\nSites : \nhttps://​ninkkas​tu​dio​.com/ \nwww​.kleine​-feine​-dinge​.net \nInstagram : \n@ninkka.makes.art \n@atelier_kleine.feine.dinge
URL:https://ninkkastudio.com/event/expo-collages-assemblages/
LOCATION:Kulturhaus Niederanven\, 145\, route de Trèves\, Niederanven\, Luxembourg\, 6940\, Luxembourg
CATEGORIES:Exhibition
ATTACH;FMTTYPE=image/jpeg:https://ninkkastudio.com/wp-content/uploads/2026/01/SKM_C250i25092614502opti.jpg
END:VEVENT
BEGIN:VEVENT
DTSTART;TZID=Europe/Paris:20260214T100000
DTEND;TZID=Europe/Paris:20260214T130000
DTSTAMP:20260423T215231
CREATED:20260107T144101Z
LAST-MODIFIED:20260107T144101Z
UID:16052-1771063200-1771074000@ninkkastudio.com
SUMMARY:Gelli Print & Collage Mix (Kids)
DESCRIPTION:Nous avons le plaisir de vous inviter à plonger dans l’univers fascinant du gelli print\, une technique d’impression créative et accessible à tous. Au cours de cet atelier\, vous apprendrez à créer vos propres papiers imprimés uniques en utilisant une plaque de gel et diverses techniques de superposition de couleurs\, de textures et de motifs. Chaque impression sera une surprise\, avec des effets et des combinaisons de couleurs imprévisibles qui donneront vie à des papiers véritablement originaux. \nUne fois vos papiers imprimés réalisés\, vous passerez à la phase de création en les transformant en magnifiques collages abstraits. Vous découvrirez comment jouer avec les formes\, les compositions et les associations de couleurs pour créer des œuvres expressives et personnelles. \nCet atelier est ouvert à tous\, débutants comme confirmés. Aucune expérience préalable ni compétence particulière n’est requise – juste l’envie de créer et d’explorer ! Tout le matériel nécessaire est inclus dans le prix de l’atelier : plaques de gelli print\, peintures acryliques\, rouleaux\, pochoirs\, ainsi que du papier\, des ciseaux et de la colle pour vos collages. Toutefois\, si vous avez des papiers favoris\, des ciseaux ou de la colle que vous aimez particulièrement utiliser\, vous êtes bien entendu les bienvenus de les apporter avec vous. \nPOUR LES ENFANTS: \nQuand: 14.02.26 de 10 à 13 heures \nQui: Enfants (8+) avec leurs parents \nPrix: 55 euro duo parent/enfant\, tout le matériel inclus \n 
URL:https://ninkkastudio.com/event/gelli-print-collage-mix-kids/
LOCATION:de Kolibri Café\, 2\, Montée Willy Goergen\, Steinsel\, 7322\, Luxembourg
CATEGORIES:Workshop
ATTACH;FMTTYPE=image/jpeg:https://ninkkastudio.com/wp-content/uploads/2026/01/Gel_printing_collage_mix_Kolibri.jpg
END:VEVENT
BEGIN:VEVENT
DTSTART;TZID=Europe/Paris:20260221T140000
DTEND;TZID=Europe/Paris:20260221T170000
DTSTAMP:20260423T215231
CREATED:20260107T144249Z
LAST-MODIFIED:20260107T144335Z
UID:16055-1771682400-1771693200@ninkkastudio.com
SUMMARY:Gelli Print & Collage Mix (Adults)
DESCRIPTION:Nous avons le plaisir de vous inviter à plonger dans l’univers fascinant du gelli print\, une technique d’impression créative et accessible à tous. Au cours de cet atelier\, vous apprendrez à créer vos propres papiers imprimés uniques en utilisant une plaque de gel et diverses techniques de superposition de couleurs\, de textures et de motifs. Chaque impression sera une surprise\, avec des effets et des combinaisons de couleurs imprévisibles qui donneront vie à des papiers véritablement originaux. \nUne fois vos papiers imprimés réalisés\, vous passerez à la phase de création en les transformant en magnifiques collages abstraits. Vous découvrirez comment jouer avec les formes\, les compositions et les associations de couleurs pour créer des œuvres expressives et personnelles. \nCet atelier est ouvert à tous\, débutants comme confirmés. Aucune expérience préalable ni compétence particulière n’est requise – juste l’envie de créer et d’explorer ! Tout le matériel nécessaire est inclus dans le prix de l’atelier : plaques de gelli print\, peintures acryliques\, rouleaux\, pochoirs\, ainsi que du papier\, des ciseaux et de la colle pour vos collages. Toutefois\, si vous avez des papiers favoris\, des ciseaux ou de la colle que vous aimez particulièrement utiliser\, vous êtes bien entendu les bienvenus de les apporter avec vous. \nPOUR LES ADULTES: \nQuand: 21.02.26 de 14 à 17 heures \nPrix: 45 euros par personne\, tout le matériel inclus (recevez une réduction de 5 euro si vous venez avec un/une amie!)
URL:https://ninkkastudio.com/event/gelli-print-collage-mix-adults/
LOCATION:de Kolibri Café\, 2\, Montée Willy Goergen\, Steinsel\, 7322\, Luxembourg
CATEGORIES:Workshop
ATTACH;FMTTYPE=image/jpeg:https://ninkkastudio.com/wp-content/uploads/2026/01/Gel_printing_collage_mix_Kolibri2.jpg
END:VEVENT
BEGIN:VEVENT
DTSTART;TZID=Europe/Paris:20260228T100000
DTEND;TZID=Europe/Paris:20260228T120000
DTSTAMP:20260423T215231
CREATED:20250804T094633Z
LAST-MODIFIED:20250804T094633Z
UID:16022-1772272800-1772280000@ninkkastudio.com
SUMMARY:Atelier de collage - Collagewerkstatt
DESCRIPTION:! WITH an accompanying person !\n6+ \nAtelier créatif pour parents-enfants \nLa collage est une technique simple qui ne nécessite pas de connaissances particulières ni de matériel spécial\, mais qui est très amusant et stimule la créativité. Après une brève explication de la technique du collage\, un peu de théorie des couleurs et de composition\, nous commencerons à réaliser nos propres collages. \n\nEltern-Kind-Kreativworskhop \nDie Collage ist eine einfache Technik für die man keine besonderen Vorkenntnisse und auch kein besonderes Material braucht\, die aber sehr viel Spaß macht und die Kreativität entfacht. Nach einer kurzen Erklärung der Collagetechnik\, ein bisschen Farbtheorie und Komposition geht es auch schon los mit Herstellen der eigenen Collagen. \nCreative parents-child workshop \nThe collage is a simple technique that requires no special knowledge or materials\, but it brings a lot of fun and sparks creativity. After a brief explanation of the collage technique\, some color theory\, and composition\, we’ll get started on creating our own collages. \n  \nLanguages \nGerman\nEnglish\nFrench\nLuxembourgish
URL:https://ninkkastudio.com/event/atelier-de-collage-collagewerkstatt/
LOCATION:Kulturhaus Niederanven\, 145\, route de Trèves\, Niederanven\, Luxembourg\, 6940\, Luxembourg
CATEGORIES:Workshop
ATTACH;FMTTYPE=image/jpeg:https://ninkkastudio.com/wp-content/uploads/2025/01/IMG_1410.jpg
END:VEVENT
BEGIN:VEVENT
DTSTART;TZID=Europe/Paris:20260516T090000
DTEND;TZID=Europe/Paris:20260516T113000
DTSTAMP:20260423T215231
CREATED:20260401T134152Z
LAST-MODIFIED:20260401T134525Z
UID:16100-1778922000-1778931000@ninkkastudio.com
SUMMARY:Collage breakfast club
DESCRIPTION:The Collage Breakfast Club €55 — all inclusive \nStart your morning with scissors\, glue\, and great company. \nJoin us for a truly unique morning\, filled with creativity and connection. The Collage Breakfast Club combines a guided collage workshop with a homemade breakfast — \nbecause creativity deserves to be celebrated with a little indulgence. \nWhat’s included in your €55: \n\n2.5 hours of collage workshop with all materials provided\nA homemade breakfast: fresh fruit\, a bread roll with jam\, cheese\, or vegetarian spread\, and a piece of homemade cake — along with your choice of tea or coffee\nA take-home gift: a carefully curated collage kit\, with a beautiful selection of papers and ephemera\, chosen with care just for you\n\nNo experience required. Simply come and enjoy the morning\, and leave with new skills\, a full stomach\, and everything you need to keep creating at home. \nUpcoming dates: \n\nMay 16 | 9:00 – 11:30 AM\nMay 30 | 9:00 – 11:30 AM\n\nSpots are limited — don’t wait! Reserve your place by email.
URL:https://ninkkastudio.com/event/collage-breakfast-club/
LOCATION:de Kolibri Café\, 2\, Montée Willy Goergen\, Steinsel\, 7322\, Luxembourg
CATEGORIES:Workshop
ATTACH;FMTTYPE=image/jpeg:https://ninkkastudio.com/wp-content/uploads/2026/04/CBC.jpg
END:VEVENT
BEGIN:VEVENT
DTSTART;TZID=Europe/Paris:20260530T090000
DTEND;TZID=Europe/Paris:20260530T113000
DTSTAMP:20260423T215231
CREATED:20260401T134415Z
LAST-MODIFIED:20260401T134415Z
UID:16103-1780131600-1780140600@ninkkastudio.com
SUMMARY:Collage breakfast club - second edition
DESCRIPTION:The Collage Breakfast Club €55 — all inclusive \nStart your morning with scissors\, glue\, and great company. \nJoin us for a truly unique morning\, filled with creativity and connection. The Collage Breakfast Club combines a guided collage workshop with a homemade breakfast — \nbecause creativity deserves to be celebrated with a little indulgence. \nWhat’s included in your €55: \n\n2.5 hours of collage workshop with all materials provided\nA homemade breakfast: fresh fruit\, a bread roll with jam\, cheese\, or vegetarian spread\, and a piece of homemade cake — along with your choice of tea or coffee\nA take-home gift: a carefully curated collage kit\, with a beautiful selection of papers and ephemera\, chosen with care just for you\n\nNo experience required. Simply come and enjoy the morning\, and leave with new skills\, a full stomach\, and everything you need to keep creating at home. \nUpcoming dates: \n\nMay 16 | 9:00 – 11:30 AM\nMay 30 | 9:00 – 11:30 AM\n\nSpots are limited — don’t wait! Reserve your place by email.
URL:https://ninkkastudio.com/event/collage-breakfast-club-second-edition/
LOCATION:de Kolibri Café\, 2\, Montée Willy Goergen\, Steinsel\, 7322\, Luxembourg
CATEGORIES:Workshop
ATTACH;FMTTYPE=image/jpeg:https://ninkkastudio.com/wp-content/uploads/2026/04/CBC.jpg
END:VEVENT
END:VCALENDAR