BEGIN:VCALENDAR
VERSION:2.0
PRODID:-//Ninkkastudio - ECPv6.15.20//NONSGML v1.0//EN
CALSCALE:GREGORIAN
METHOD:PUBLISH
X-WR-CALNAME:Ninkkastudio
X-ORIGINAL-URL:https://ninkkastudio.com
X-WR-CALDESC:Events for Ninkkastudio
REFRESH-INTERVAL;VALUE=DURATION:PT1H
X-Robots-Tag:noindex
X-PUBLISHED-TTL:PT1H
BEGIN:VTIMEZONE
TZID:Europe/Paris
BEGIN:DAYLIGHT
TZOFFSETFROM:+0100
TZOFFSETTO:+0200
TZNAME:CEST
DTSTART:20230326T010000
END:DAYLIGHT
BEGIN:STANDARD
TZOFFSETFROM:+0200
TZOFFSETTO:+0100
TZNAME:CET
DTSTART:20231029T010000
END:STANDARD
BEGIN:DAYLIGHT
TZOFFSETFROM:+0100
TZOFFSETTO:+0200
TZNAME:CEST
DTSTART:20240331T010000
END:DAYLIGHT
BEGIN:STANDARD
TZOFFSETFROM:+0200
TZOFFSETTO:+0100
TZNAME:CET
DTSTART:20241027T010000
END:STANDARD
BEGIN:DAYLIGHT
TZOFFSETFROM:+0100
TZOFFSETTO:+0200
TZNAME:CEST
DTSTART:20250330T010000
END:DAYLIGHT
BEGIN:STANDARD
TZOFFSETFROM:+0200
TZOFFSETTO:+0100
TZNAME:CET
DTSTART:20251026T010000
END:STANDARD
END:VTIMEZONE
BEGIN:VEVENT
DTSTART;TZID=Europe/Paris:20241013T090000
DTEND;TZID=Europe/Paris:20241013T120000
DTSTAMP:20260424T012547
CREATED:20250428T104646Z
LAST-MODIFIED:20250428T104646Z
UID:15974-1728810000-1728820800@ninkkastudio.com
SUMMARY:Workshop – Printing with gelli plates basics
DESCRIPTION:Unleash Your Creativity with Gelli Plate: Unveiling the World of Abstract Artwork\n\nJoin me for an exhilarating in-person workshop where you will embark on an artistic journey\, exploring the mesmerizing realm of abstract artwork using the highly versatile gelli plate technique. This hands-on experience will nurture your creativity\, equipping you with the skills to create stunning and unique abstract masterpieces. \n\nWorkshop Highlights:\n1. Introduction to Gelli Plate: Begin your creative journey by familiarizing yourself with the gelli plate\, a flexible and gelatinous printing surface that produces rich and multi-dimensional textures. Discover the potential of this remarkable tool in producing abstract artwork. \n2. Exploring Techniques: Learn a wide range of techniques to manipulate the gelli plate\, such as layering\, mark-making\, stenciling\, and monoprinting. Gain an understanding of how each technique contributes to the creation of captivating abstract compositions. \n3. Color Exploration: Delve into the world of color theory and learn how it can be applied to your artwork. Experiment with different color palettes\, blending techniques\, and the use of complementary or contrasting colors to evoke mood and emotion in your abstract pieces. \n4. Composition and Design: Master the art of creating visually balanced and harmonious abstract compositions. Explore the principles of design\, including focal points\, balance\, movement\, and negative space. Learn how to arrange shapes\, lines\, and textures to create engaging and aesthetically pleasing artwork. \n5. Creative Expression: Embrace your individuality and let your imagination run wild. Discover how to create expressive and meaningful artwork by tapping into your emotions and personal experiences. Unleash your unique style through the limitless possibilities of abstract art. \n6. Group Critique and Feedback: Foster a supportive and collaborative environment by participating in a group critique session. Receive valuable feedback from fellow workshop attendees and the instructor\, allowing you to grow as an artist and gain new insights into your creative process. \n7. Take Your Creations Home: Leave the workshop with a collection of your own stunning abstract artworks created using the gelli plate technique. Each piece will be a testament to your newfound skills and artistic expression\, ready to be proudly displayed. \n\nWho Should Attend:\nThis workshop welcomes both beginners and experienced artists alike\, providing a nurturing environment for anyone seeking to explore and expand their artistic abilities. Whether you are completely new to abstract art or have prior experience with gelli plate printing\, this workshop is designed to challenge and inspire you in an inclusive and supportive setting. \n\nMaterials Provided:\n\nGelli plates and brayers\nAcrylic paints in various colors\nBrushes\, sponges\, and other mark-making tools\nStencils and texture implements\nPaper and other relevant substrates\n\nNote: Attendees are encouraged to bring any additional materials or reference materials they wish to incorporate into their artwork. \nJoin me for an unforgettable workshop where you will unleash your inner artist\, discover the captivating gelli plate technique\, and create one-of-a-kind abstract masterpieces that reflect your unique creativity. Reserve your spot today!
URL:https://ninkkastudio.com/event/workshop-printing-with-gelli-plates-basics/
LOCATION:Kulturhaus Niederanven\, 145\, route de Trèves\, Niederanven\, Luxembourg\, 6940\, Luxembourg
CATEGORIES:Workshop
ATTACH;FMTTYPE=image/jpeg:https://ninkkastudio.com/wp-content/uploads/2024/05/Workshop_gelli_print_010.jpg
END:VEVENT
BEGIN:VEVENT
DTSTART;TZID=Europe/Paris:20240720T100000
DTEND;TZID=Europe/Paris:20240720T140000
DTSTAMP:20260424T012547
CREATED:20250428T103921Z
LAST-MODIFIED:20250428T103921Z
UID:15968-1721469600-1721484000@ninkkastudio.com
SUMMARY:Workshop – Make art with gelli plates
DESCRIPTION:Unleash Your Creativity with Gelli Plate: Unveiling the World of Abstract Artwork\n\nJoin me for an exhilarating in-person workshop where you will embark on an artistic journey\, exploring the mesmerizing realm of abstract artwork using the highly versatile gelli plate technique. This hands-on experience will nurture your creativity\, equipping you with the skills to create stunning and unique abstract masterpieces. \n\nWorkshop Highlights:\n1. Introduction to Gelli Plate: Begin your creative journey by familiarizing yourself with the gelli plate\, a flexible and gelatinous printing surface that produces rich and multi-dimensional textures. Discover the potential of this remarkable tool in producing abstract artwork. \n2. Exploring Techniques: Learn a wide range of techniques to manipulate the gelli plate\, such as layering\, mark-making\, stenciling\, and monoprinting. Gain an understanding of how each technique contributes to the creation of captivating abstract compositions. \n3. Color Exploration: Delve into the world of color theory and learn how it can be applied to your artwork. Experiment with different color palettes\, blending techniques\, and the use of complementary or contrasting colors to evoke mood and emotion in your abstract pieces. \n4. Composition and Design: Master the art of creating visually balanced and harmonious abstract compositions. Explore the principles of design\, including focal points\, balance\, movement\, and negative space. Learn how to arrange shapes\, lines\, and textures to create engaging and aesthetically pleasing artwork. \n5. Creative Expression: Embrace your individuality and let your imagination run wild. Discover how to create expressive and meaningful artwork by tapping into your emotions and personal experiences. Unleash your unique style through the limitless possibilities of abstract art. \n6. Group Critique and Feedback: Foster a supportive and collaborative environment by participating in a group critique session. Receive valuable feedback from fellow workshop attendees and the instructor\, allowing you to grow as an artist and gain new insights into your creative process. \n7. Take Your Creations Home: Leave the workshop with a collection of your own stunning abstract artworks created using the gelli plate technique. Each piece will be a testament to your newfound skills and artistic expression\, ready to be proudly displayed. \n\nWho Should Attend:\nThis workshop welcomes both beginners and experienced artists alike\, providing a nurturing environment for anyone seeking to explore and expand their artistic abilities. Whether you are completely new to abstract art or have prior experience with gelli plate printing\, this workshop is designed to challenge and inspire you in an inclusive and supportive setting. \n\nMaterials Provided:\n\nGelli plates and brayers\nAcrylic paints in various colors\nBrushes\, sponges\, and other mark-making tools\nStencils and texture implements\nPaper and other relevant substrates\n\nNote: Attendees are encouraged to bring any additional materials or reference materials they wish to incorporate into their artwork. \nJoin me for an unforgettable workshop where you will unleash your inner artist\, discover the captivating gelli plate technique\, and create one-of-a-kind abstract masterpieces that reflect your unique creativity. Reserve your spot today!
URL:https://ninkkastudio.com/event/workshop-make-art-with-gelli-plates/
LOCATION:Subtile Style Gallery\, Avenue Gaston Diderich 21A\, LUXEMBOURG\, L-1420\, Luxembourg
CATEGORIES:Workshop
ATTACH;FMTTYPE=image/jpeg:https://ninkkastudio.com/wp-content/uploads/2024/05/Workshop_gelli_print_001.jpg
END:VEVENT
END:VCALENDAR