BEGIN:VCALENDAR
VERSION:2.0
PRODID:-//Ninkkastudio - ECPv6.15.20//NONSGML v1.0//EN
CALSCALE:GREGORIAN
METHOD:PUBLISH
X-ORIGINAL-URL:https://ninkkastudio.com
X-WR-CALDESC:Events for Ninkkastudio
REFRESH-INTERVAL;VALUE=DURATION:PT1H
X-Robots-Tag:noindex
X-PUBLISHED-TTL:PT1H
BEGIN:VTIMEZONE
TZID:Europe/Paris
BEGIN:DAYLIGHT
TZOFFSETFROM:+0100
TZOFFSETTO:+0200
TZNAME:CEST
DTSTART:20240331T010000
END:DAYLIGHT
BEGIN:STANDARD
TZOFFSETFROM:+0200
TZOFFSETTO:+0100
TZNAME:CET
DTSTART:20241027T010000
END:STANDARD
BEGIN:DAYLIGHT
TZOFFSETFROM:+0100
TZOFFSETTO:+0200
TZNAME:CEST
DTSTART:20250330T010000
END:DAYLIGHT
BEGIN:STANDARD
TZOFFSETFROM:+0200
TZOFFSETTO:+0100
TZNAME:CET
DTSTART:20251026T010000
END:STANDARD
BEGIN:DAYLIGHT
TZOFFSETFROM:+0100
TZOFFSETTO:+0200
TZNAME:CEST
DTSTART:20260329T010000
END:DAYLIGHT
BEGIN:STANDARD
TZOFFSETFROM:+0200
TZOFFSETTO:+0100
TZNAME:CET
DTSTART:20261025T010000
END:STANDARD
END:VTIMEZONE
BEGIN:VEVENT
DTSTART;TZID=Europe/Paris:20250201T090000
DTEND;TZID=Europe/Paris:20250201T120000
DTSTAMP:20260424T152103
CREATED:20250201T114920Z
LAST-MODIFIED:20250804T091705Z
UID:15977-1738400400-1738411200@ninkkastudio.com
SUMMARY:Collage workshop for parents and children
DESCRIPTION:Join us for a Creative Collage Workshop! Parent & Child Art Adventure\nDear Parents and Children\, \nCollage is a simple technique that doesn’t require any special knowledge or equipment\, but is very fun and stimulates creativity. After a brief explanation of collage techniques\, some color theory\, and composition basics\, we will start creating our own collages. \nCome spend a delightful morning exploring the world of collage art together! This hands-on workshop is perfect for children from age 6+ and their parents. All materials will be provided. \nDate: February 1st 2025  Time: 9 am – 12 pm  Location: Kulturhaus Niederanven (khn.lu) Cost: 50 € (for two) all included \nRegister online: https://www.khn.lu/fr/agenda/collagewerkstatt-collage-workshop-atelier-de-collage \nBring your imagination and get ready to create something unique together!
URL:https://ninkkastudio.com/event/workshop-collage_parents_children/
LOCATION:Kulturhaus Niederanven\, 145\, route de Trèves\, Niederanven\, Luxembourg\, 6940\, Luxembourg
CATEGORIES:Workshop
ATTACH;FMTTYPE=image/jpeg:https://ninkkastudio.com/wp-content/uploads/2025/01/IMG_1410.jpg
END:VEVENT
END:VCALENDAR