BEGIN:VCALENDAR
VERSION:2.0
PRODID:-//Ninkkastudio - ECPv6.15.20//NONSGML v1.0//EN
CALSCALE:GREGORIAN
METHOD:PUBLISH
X-ORIGINAL-URL:https://ninkkastudio.com
X-WR-CALDESC:Events for Ninkkastudio
REFRESH-INTERVAL;VALUE=DURATION:PT1H
X-Robots-Tag:noindex
X-PUBLISHED-TTL:PT1H
BEGIN:VTIMEZONE
TZID:Europe/Paris
BEGIN:DAYLIGHT
TZOFFSETFROM:+0100
TZOFFSETTO:+0200
TZNAME:CEST
DTSTART:20240331T010000
END:DAYLIGHT
BEGIN:STANDARD
TZOFFSETFROM:+0200
TZOFFSETTO:+0100
TZNAME:CET
DTSTART:20241027T010000
END:STANDARD
BEGIN:DAYLIGHT
TZOFFSETFROM:+0100
TZOFFSETTO:+0200
TZNAME:CEST
DTSTART:20250330T010000
END:DAYLIGHT
BEGIN:STANDARD
TZOFFSETFROM:+0200
TZOFFSETTO:+0100
TZNAME:CET
DTSTART:20251026T010000
END:STANDARD
BEGIN:DAYLIGHT
TZOFFSETFROM:+0100
TZOFFSETTO:+0200
TZNAME:CEST
DTSTART:20260329T010000
END:DAYLIGHT
BEGIN:STANDARD
TZOFFSETFROM:+0200
TZOFFSETTO:+0100
TZNAME:CET
DTSTART:20261025T010000
END:STANDARD
END:VTIMEZONE
BEGIN:VEVENT
DTSTART;TZID=Europe/Paris:20251123T100000
DTEND;TZID=Europe/Paris:20251123T160000
DTSTAMP:20260424T010651
CREATED:20251103T101246Z
LAST-MODIFIED:20251103T101256Z
UID:16035-1763892000-1763913600@ninkkastudio.com
SUMMARY:Get Creative: Junk Journal Workshop
DESCRIPTION:Ever wanted to turn everyday scraps into something beautiful? Join us for a hands-on Junk Journal Workshop where you’ll learn to transform paper ephemera\, old book pages\, fabric scraps\, and other “junk” into a stunning\, one-of-a-kind journal. \nWhat we will be doing: \n\nSorting and assembling beautiful junk to create your own\, unique book\nLearning an easy bookbinding technique\nWriting\, painting\, and collaging to express ourselves in our new journal\nMaking pockets\, envelopes\, and interactive elements\nConnecting with like-minded people and spending a creative day together\n\nWhat you should bring: \n\nYour creativity and your ideas\nNo experience is necessary\, you will try and learn everything while having fun\nBasic materials will be provided\, but please\, consider bringing some junk papers (old books\, magazines\, tickets\, wrapping papers\, photos\, etc.)\, as your own paper collection will make the book more personal and relevant to you\nYour favorite art supplies\n\nWhat to expect: \nWe will meet on Sunday\, November 23rd at De Kolibri in Steinsel at 10 am.\nWe will start at 10 am with sorting our “junk” and putting it together into a book form. During the first two hours\, I will explain what a junk journal is and how you can make the most of it.\nAt 12 pm we will have a light lunch at the café (lunch is included in the workshop fee)\, to continue at 1 pm with binding the book together and then working the journal pages to discover its full potential. \nYou will go home full of new ideas and a finished\, one-of-a-kind journal bound by you! \nEvent details:  \n\nDate: Sunday\, November 23rd\, from 10 am to 4 pm\, with a light lunch included\nWhere: De Kolibri in Steinsel (see the location on Google Maps)\nParticipation fee: 85 euros per person (basic supplies and lunch included)\nMaximum number of people: 8\n\nSpace is limited\, so reserve your spot today! You can send me an email via this link if you’re interested\, and I will send you all the details. \n 
URL:https://ninkkastudio.com/event/get-creative-junk-journal-workshop/
LOCATION:de Kolibri Café\, 2\, Montée Willy Goergen\, Steinsel\, 7322\, Luxembourg
CATEGORIES:Workshop
ATTACH;FMTTYPE=image/jpeg:https://ninkkastudio.com/wp-content/uploads/2025/11/IMG_2566_opti.jpg
END:VEVENT
END:VCALENDAR